BEGIN:VCALENDAR
VERSION:2.0
PRODID:-//Asociación Latinoaméricana Alemana en Münster - ECPv6.15.17//NONSGML v1.0//EN
CALSCALE:GREGORIAN
METHOD:PUBLISH
X-ORIGINAL-URL:https://www.upla-ev.de/?lang=pt-br
X-WR-CALDESC:Eventos para Asociación Latinoaméricana Alemana en Münster
REFRESH-INTERVAL;VALUE=DURATION:PT1H
X-Robots-Tag:noindex
X-PUBLISHED-TTL:PT1H
BEGIN:VTIMEZONE
TZID:UTC
BEGIN:STANDARD
TZOFFSETFROM:+0000
TZOFFSETTO:+0000
TZNAME:UTC
DTSTART:20240101T000000
END:STANDARD
END:VTIMEZONE
BEGIN:VEVENT
DTSTART;VALUE=DATE:20251017
DTEND;VALUE=DATE:20251116
DTSTAMP:20260424T083455
CREATED:20190929T165316Z
LAST-MODIFIED:20251006T092734Z
UID:2817-1760659200-1763251199@www.upla-ev.de
SUMMARY:16. Lateinamerika-Wochen
DESCRIPTION:Vier aufregende Wochen mit neuen Erkenntnissen über einen faszinierenden Kontinent\, kulinarischen Genüssen und kulturellen Highlights liegen vor uns. Wir haben ein volles Programm für euch zusammengestellt\, mit Kino\, kulinarischen Abenden\, einem klassischen Konzert\, Reiseberichten und Vorträgen rund um Lateinamerika. Seid gespannt und schaut gern vorbei! \n¡Nos vemos! \n  \n 
URL:https://www.upla-ev.de/event/lateinamerika-wochen_2025/?lang=pt-br
LOCATION:Upla e.V.\, Verspoel 7-8\, Münster\, NRW\, 48143\, Deutschland
CATEGORIES:Feierlichkeiten,Lateinamerikawochen
END:VEVENT
BEGIN:VEVENT
DTSTART;TZID=UTC:20251109T190000
DTEND;TZID=UTC:20251109T230000
DTSTAMP:20260424T083455
CREATED:20230918T220601Z
LAST-MODIFIED:20251006T114355Z
UID:3000-1762714800-1762729200@www.upla-ev.de
SUMMARY:Workshop Folklore Argentino und Fiesta Rock nacional
DESCRIPTION:Wir starten mit einem lebendigen Workshop\, in dem Sie traditionelle Tänze Argentiniens kennenlernen können – von mitreißenden Rhythmen der Zamba bis zu den schwungvollen Klängen der Chacarera. Christian Salvatore Vaccaro wird Ihnen einzelne Tänze und deren Herkunft näher bringen. \nAnschließend heißt es dann Bühne frei für die Fiesta Rock Nacional: feiern Sie zur Musik argentinischer Rocklegenden und erleben Sie\, wie kraftvoll und leidenschaftlich dieser Teil der Musikkultur das Lebensgefühl Argentiniens widerspiegelt. Ein Tag voller Bewegung\, Musik und Begegnung – ganz im Zeichen lateinamerikanischer Vielfalt. \nAnmeldung: info@upla-ev.de\nEintritt: Spendenbasis \nIn Kooperation mit \n \n  \nDie Location ist nicht ganz so leicht zu finden\, auf der Kanalseite hinter dem Bennohaus seid ihr schon nah dran\, von dort ein paar Meter Richtung Hafen\, hinten rechts in der Ecke führt eine Treppe hoch in den ersten Stock. Genau da seid ihr richtig! \nHier findet ihr eine bebilderte Beschreibung:\nhttps://www.katjaychristian.de/kontakt-location-newsletter/
URL:https://www.upla-ev.de/event/workshop-folklore-argentino/?lang=pt-br
LOCATION:Be 7\, Bennostraße 7 (Eingang Kanalseite)\, Münster
CATEGORIES:Lateinamerikawochen,Tanz,Workshop
END:VEVENT
END:VCALENDAR