BEGIN:VCALENDAR
VERSION:2.0
PRODID:-//Asociación Latinoaméricana Alemana en Münster - ECPv6.15.17//NONSGML v1.0//EN
CALSCALE:GREGORIAN
METHOD:PUBLISH
X-ORIGINAL-URL:https://www.upla-ev.de/?lang=pt-br
X-WR-CALDESC:Eventos para Asociación Latinoaméricana Alemana en Münster
REFRESH-INTERVAL;VALUE=DURATION:PT1H
X-Robots-Tag:noindex
X-PUBLISHED-TTL:PT1H
BEGIN:VTIMEZONE
TZID:UTC
BEGIN:STANDARD
TZOFFSETFROM:+0000
TZOFFSETTO:+0000
TZNAME:UTC
DTSTART:20240101T000000
END:STANDARD
END:VTIMEZONE
BEGIN:VEVENT
DTSTART;VALUE=DATE:20251017
DTEND;VALUE=DATE:20251116
DTSTAMP:20260424T083457
CREATED:20190929T165316Z
LAST-MODIFIED:20251006T092734Z
UID:2817-1760659200-1763251199@www.upla-ev.de
SUMMARY:16. Lateinamerika-Wochen
DESCRIPTION:Vier aufregende Wochen mit neuen Erkenntnissen über einen faszinierenden Kontinent\, kulinarischen Genüssen und kulturellen Highlights liegen vor uns. Wir haben ein volles Programm für euch zusammengestellt\, mit Kino\, kulinarischen Abenden\, einem klassischen Konzert\, Reiseberichten und Vorträgen rund um Lateinamerika. Seid gespannt und schaut gern vorbei! \n¡Nos vemos! \n  \n 
URL:https://www.upla-ev.de/event/lateinamerika-wochen_2025/?lang=pt-br
LOCATION:Upla e.V.\, Verspoel 7-8\, Münster\, NRW\, 48143\, Deutschland
CATEGORIES:Feierlichkeiten,Lateinamerikawochen
END:VEVENT
BEGIN:VEVENT
DTSTART;TZID=UTC:20251104T190000
DTEND;TZID=UTC:20251104T220000
DTSTAMP:20260424T083457
CREATED:20181116T194925Z
LAST-MODIFIED:20251006T111906Z
UID:2970-1762282800-1762293600@www.upla-ev.de
SUMMARY:Reisebericht: Guatemala – Zwischen Vulkanen\, Seen und Traditionen
DESCRIPTION:Wir laden euch ein\, euch von der Vortragenden Sonja Kappenberg auf eine Reise durch das Herz Guatemalas mitnehmen zu lassen\, in ein Land voller Farben\, Geschichten und lebendiger Traditionen. Sie beginnt in den kolonialen Gassen Antiguas\, wo prachtvolle Kirchen und alte Klosteranlagen von einer bewegten Vergangenheit erzählen und gleichzeitig ein pulsierendes Kulturleben spürbar wird. Weiter geht es zum magischen Lago Atitlán\, eingebettet zwischen imposanten Vulkanen\, wo kunsthandwerkliche Dörfer ihre farbenfrohen Märkte öffnen\, Fraueninitiativen Einblicke in ihre Projekte geben und uraltes Pflanzenwissen noch heute von Generation zu Generation weitergegeben wird. Den Höhepunkt bildet eine eindrucksvolle Vulkanwanderung am Fuego\, bei der sich Naturgewalten hautnah erleben lassen und der Blick über die Landschaft unvergessliche Eindrücke hinterlässt. \nKommt vorbei und lasst euch von Guatemala in all seiner Vielfalt inspirieren – mit seiner Schönheit\, seiner Kultur und seiner Herzlichkeit! \n  \n \nEindrücke aus Guatemala © Sonja Kappenberg \nAnmeldung: info@upla-ev.de\nBeitrag: Spendenbasis
URL:https://www.upla-ev.de/event/reisebericht-guatemala/?lang=pt-br
LOCATION:Upla e.V.\, Verspoel 7-8\, Münster\, NRW\, 48143\, Deutschland
CATEGORIES:Lateinamerikawochen,Vortrag
ATTACH;FMTTYPE=image/jpeg:https://www.upla-ev.de/wp-content/uploads/2018/11/IMG_6961-e1759749431894.jpeg
END:VEVENT
BEGIN:VEVENT
DTSTART;TZID=UTC:20251104T190000
DTEND;TZID=UTC:20251104T223000
DTSTAMP:20260424T083457
CREATED:20201006T204246Z
LAST-MODIFIED:20251006T112149Z
UID:2967-1762282800-1762295400@www.upla-ev.de
SUMMARY:Upla Portugiesisch-Stammtisch
DESCRIPTION:Der Portugiesisch-Stammtisch hat sich zu einem stetigen Treffen entwickelt\, für Muttersprachler und alle\, die ihre Portugiesischkenntnisse anwenden und üben möchten\, oder eine/n Tandempartner/in suchen. \nAm 4. November treffen wir uns in der Cafebar Los Amigos\, Wolbecker Straße 128. \nMehr Infos zu Terminen\, Uhrzeiten und Orte der Treffen sind auf Facebook unter folgendem Link zu finden: \nhttps://www.facebook.com/PortugiesischStammtisch/ \nohne Anmeldung\nEintritt: Spendenbasis
URL:https://www.upla-ev.de/event/portugiesisch-stammtisch-11-25/?lang=pt-br
LOCATION:Los Amigos\, Wolbecker Straße 128\, Münster\, NRW\, 48155\, Deutschland
CATEGORIES:Lateinamerikawochen,Portugiesisch-Stammtisch
ATTACH;FMTTYPE=image/jpeg:https://www.upla-ev.de/wp-content/uploads/2018/03/Stammtisch-Flyer_Basic-e1759749697684.jpg
END:VEVENT
END:VCALENDAR