BEGIN:VCALENDAR
VERSION:2.0
PRODID:-//Asociación Latinoaméricana Alemana en Münster - ECPv6.15.17//NONSGML v1.0//EN
CALSCALE:GREGORIAN
METHOD:PUBLISH
X-ORIGINAL-URL:https://www.upla-ev.de/?lang=pt-br
X-WR-CALDESC:Eventos para Asociación Latinoaméricana Alemana en Münster
REFRESH-INTERVAL;VALUE=DURATION:PT1H
X-Robots-Tag:noindex
X-PUBLISHED-TTL:PT1H
BEGIN:VTIMEZONE
TZID:UTC
BEGIN:STANDARD
TZOFFSETFROM:+0000
TZOFFSETTO:+0000
TZNAME:UTC
DTSTART:20230101T000000
END:STANDARD
END:VTIMEZONE
BEGIN:VEVENT
DTSTART;TZID=UTC:20240428T130000
DTEND;TZID=UTC:20240428T160000
DTSTAMP:20260425T200815
CREATED:20230926T181442Z
LAST-MODIFIED:20240324T183602Z
UID:2484-1714309200-1714320000@www.upla-ev.de
SUMMARY:Workshop: Tacos selber machen
DESCRIPTION:Die Taco-Workshops in den letzten Lateinamerika-Wochen waren so beliebt\, dass wir die Workshops nun häufiger anbieten wollen! Dies ist der erste Termin\, im späten Sommer folgt voraussichtlich ein weiterer und während der diesjährigen Lateinamerika-Wochen (voraussichtlich 25. Oktober bis 23. November 2024) ein dritter Workshop. Wir freuen uns auf euch! \nTacos sind ein wesentlicher Bestandteil der mexikanischen Kultur: Vielfältig und lecker! Die Varianten an Tacos und Möglichkeiten der Zubereitung sind unendlich. Doch sie bestehen alle aus den selben Basics: Warmen Tortillas\, leckerer Füllung und einer guten Salsa! \nWir zeigen euch in diesem Workshop\, wie ihr Tacos herstellt.\nKommt vorbei\, lasst uns gemeinsam viele Varianten ausprobieren und dann die Tacos genießen! \n\nGrandios leckere Tacos\, zubereitet und fotografiert von © Cristina Müggenburg \nAnmeldung an info@upla-ev.de\nBeitrag regulär: 15 €\nBeitrag für UPLA-Mitglieder: 12 € \n 
URL:https://www.upla-ev.de/event/workshop-tacos-selber-machen-2/?lang=pt-br
LOCATION:La Costanera\, Bergstraße 19-20\, Münster\, NRW\, 48143\, Deutschland
CATEGORIES:Kulinarisches,Lateinamerikawochen,Workshop
END:VEVENT
END:VCALENDAR