BEGIN:VCALENDAR
VERSION:2.0
PRODID:-//Asociación Latinoaméricana Alemana en Münster - ECPv6.15.17//NONSGML v1.0//EN
CALSCALE:GREGORIAN
METHOD:PUBLISH
X-WR-CALNAME:Asociación Latinoaméricana Alemana en Münster
X-ORIGINAL-URL:https://www.upla-ev.de/?lang=pt-br
X-WR-CALDESC:Eventos para Asociación Latinoaméricana Alemana en Münster
REFRESH-INTERVAL;VALUE=DURATION:PT1H
X-Robots-Tag:noindex
X-PUBLISHED-TTL:PT1H
BEGIN:VTIMEZONE
TZID:UTC
BEGIN:STANDARD
TZOFFSETFROM:+0000
TZOFFSETTO:+0000
TZNAME:UTC
DTSTART:20240101T000000
END:STANDARD
END:VTIMEZONE
BEGIN:VEVENT
DTSTART;VALUE=DATE:20251017
DTEND;VALUE=DATE:20251116
DTSTAMP:20260422T185849
CREATED:20190929T165316Z
LAST-MODIFIED:20251006T092734Z
UID:2817-1760659200-1763251199@www.upla-ev.de
SUMMARY:16. Lateinamerika-Wochen
DESCRIPTION:Vier aufregende Wochen mit neuen Erkenntnissen über einen faszinierenden Kontinent\, kulinarischen Genüssen und kulturellen Highlights liegen vor uns. Wir haben ein volles Programm für euch zusammengestellt\, mit Kino\, kulinarischen Abenden\, einem klassischen Konzert\, Reiseberichten und Vorträgen rund um Lateinamerika. Seid gespannt und schaut gern vorbei! \n¡Nos vemos! \n  \n 
URL:https://www.upla-ev.de/event/lateinamerika-wochen_2025/?lang=pt-br
LOCATION:Upla e.V.\, Verspoel 7-8\, Münster\, NRW\, 48143\, Deutschland
CATEGORIES:Feierlichkeiten,Lateinamerikawochen
END:VEVENT
BEGIN:VEVENT
DTSTART;TZID=UTC:20251101T190000
DTEND;TZID=UTC:20251101T223000
DTSTAMP:20260422T185849
CREATED:20190929T172315Z
LAST-MODIFIED:20251007T091102Z
UID:2946-1762023600-1762036200@www.upla-ev.de
SUMMARY:Workshop + Party: Salsa Caleña
DESCRIPTION:Der Salsa-Caleña-Workshop bietet eine Einführung in die schnellen Schritte und charakteristische Fußarbeit dieses energiegeladenen Tanzstils aus Cali\, Kolumbien. Teilnehmer lernen die Grundtechniken\, üben Partnerarbeit und setzen das Gelernte in einer kurzen Choreografie um. \nTauche ein in den Super-Salsa-Caleña-Schnupperkurs\, speziell für Anfänger und Fortgeschrittene\, unter der Leitung von Miguel Medina (Insta: baila_alo_latino)\, einem leidenschaftlichem peruanischen Tänzer. Im Anschluss laden wir euch zu einer kleinen Party ein\, auf der ihr eure neuen Salsa-Skills testen könnt! \nWir freuen uns auf eure Teilnahme! \n \nBeitrag: 15 € (Bezahlung in bar vor Ort)\nAnmeldung: info@upla-ev.de \nIn Kooperation mit \n \n 
URL:https://www.upla-ev.de/event/workshop-salsa-calena-2025/?lang=pt-br
LOCATION:Be 7\, Bennostraße 7 (Eingang Kanalseite)\, Münster
CATEGORIES:Lateinamerikawochen,Tanz,Workshop
END:VEVENT
BEGIN:VEVENT
DTSTART;TZID=UTC:20251102T150000
DTEND;TZID=UTC:20251102T173000
DTSTAMP:20260422T185849
CREATED:20230926T181442Z
LAST-MODIFIED:20251009T093222Z
UID:2784-1762095600-1762104600@www.upla-ev.de
SUMMARY:Workshop: Mexikanisch kochen (Pozole)
DESCRIPTION:¡Cocina como en México!\n \nLust auf echtes mexikanisches Soulfood? Dann komm zu unserem mexikanischen Kochkurs am Sonntag\, den 2. November\, und tauche mit uns ein in die farbenfrohe Welt der mexikanischen Küche! Unsere mexikanischen Kochfee María Teresa Vargas wird dich auf ein kulinarisches Abenteuer mitnehmen! \nWas wir gemeinsam zaubern: \n•⁠ ⁠Pozole: der traditionelle mexikanische Eintopf. Du lernst\, wie man ihn richtig macht (Spoiler: Mais spielt die Hauptrolle!).\n•⁠ ⁠Aguas Frescas: erfrischende\, fruchtige Getränke. Perfekt\, um die Geschmacksknospen zu tanzen zu bringen! \nNeben dem Kochen gibt’s spannende Einblicke in die Kultur und Geschichte der Gerichte und natürlich jede Menge Spaß\, gute Laune und mexikanische Musik! \nMeld dich schnell an\, die Plätze sind limitados! \n  \nAnmeldung: info@upla-ev.de\nBeitrag: 15 € (Bezahlung in bar vor Ort) \n 
URL:https://www.upla-ev.de/event/workshop-mexikanisch-kochen/?lang=pt-br
LOCATION:Upla e.V.\, Verspoel 7-8\, Münster\, NRW\, 48143\, Deutschland
CATEGORIES:Kulinarisches,Lateinamerikawochen,Workshop
ATTACH;FMTTYPE=image/jpeg:https://www.upla-ev.de/wp-content/uploads/2023/09/IMG_5110_Original-b-e1759749623113.jpeg
END:VEVENT
BEGIN:VEVENT
DTSTART;TZID=UTC:20251102T150000
DTEND;TZID=UTC:20251102T210000
DTSTAMP:20260422T185849
CREATED:20230918T220601Z
LAST-MODIFIED:20251006T114500Z
UID:2951-1762095600-1762117200@www.upla-ev.de
SUMMARY:Workshop + Milonga: Tango (Basics)
DESCRIPTION:In diesem Workshop werden die Grundlagen des Tangos vermittelt. In herzlicher und lockerer Atmosphäre wird Interessierten ohne Vorkenntnisse der wundervorlle Tanz näher gebracht – das Prinzip der Improvisation\, Führen und Folgen\, Körperkommunikation\, sich aufeinander Einlassen\, die Augen schließen und nur spüren!!! Zudem wird ein Grundprogramm an Schrittfolgen bzw. Figuren gelehrt\, wie die Salida\, Ochos und das gekreuzte System. \nTango\n… ein Tanz\, der in der ganzen Welt bekannt ist. Tango ist die Identität eines Volkes und Interpretation von universellen Gefühlen\, geschützt als immaterielles Weltkulturerbe durch die UNESCO. Der Verein Tango Pasión e.V. in Münster vereint alle\, die die Leidenschaft für den Tango entdeckt haben und ermöglicht\, die Kultur kennen zu lernen und den Tanz lernen und leben zu können. \nTango ist nicht nur ein Tanz\, sondern es ist eine Kultur\, eine Lebensart\, die Möglichkeit von Gemeinschaft. Tango besteht nicht nur aus Schritten\, sondern vor allem aus der Umarmung\, der Kommunikation zwischen Mann und Frau\, dem Spüren und dem gegenseitigen Respekt. Tango lernt man nicht mit festen Schrittfolgen\, sondern man lernt\, den Tanz des Partners zu verstehen\, die Musik frei zu interpretieren und sich selbst auszudrücken. \nAnmeldung: info@upla-ev.de\nEintritt: Spendenbasis \n \n \nDie Location ist nicht ganz so leicht zu finden\, auf der Kanalseite hinter dem Bennohaus seid ihr schon nah dran\, von dort ein paar Meter Richtung Hafen\, hinten rechts in der Ecke führt eine Treppe hoch in den ersten Stock. Genau da seid ihr richtig! \nHier findet ihr eine bebilderte Beschreibung:\nhttps://www.katjaychristian.de/kontakt-location-newsletter/
URL:https://www.upla-ev.de/event/workshop-tango2025/?lang=pt-br
LOCATION:Be 7\, Bennostraße 7 (Eingang Kanalseite)\, Münster
CATEGORIES:Lateinamerikawochen,Tanz,Workshop
ATTACH;FMTTYPE=image/jpeg:https://www.upla-ev.de/wp-content/uploads/2023/09/logo-tango-pasion-bianco.jpg
END:VEVENT
BEGIN:VEVENT
DTSTART;TZID=UTC:20251103T180000
DTEND;TZID=UTC:20251103T220000
DTSTAMP:20260422T185849
CREATED:20230918T204120Z
LAST-MODIFIED:20251011T094707Z
UID:2964-1762192800-1762207200@www.upla-ev.de
SUMMARY:Kulinarischer Abend: Brasilien
DESCRIPTION:Die brasilianische Küche begeistert mit ihren besonderen Kontrasten – von der beliebten Feijoada\, einem kräftigen Bohneneintopf mit Fleisch\, über frisch gegrillte Spezialitäten vom Churrasco\, bis hin zu feinen Snacks wie Pão de Queijo\, den unwiderstehlich lockeren Käsebällchen. Auch die tropische Vielfalt kommt nicht zu kurz: exotische Früchte wie Açaí\, Maracuja oder Mango bringen Frische und Farbe auf den Teller. Bei unserem Kulinarischen Abend könnt ihr diese typischen Geschmäcker Brasiliens erleben\, begleitet von schwungvoller brasilianischer Musik und einer Bildershow\, die euch mitten hinein in die farbenfrohe Kultur und Landschaft des Landes entführen. \nUnser Menü für euch: \nVorspeise: Pão de Queijo (Vegetarisch: Pão de Queijo)\nHauptgericht: Feijoada (Vegetarisch: Feijoada mit Räuchertofu)\nNachtisch: Pudim de leite condensado\n\nTaucht ein in diese wunderbare Welt bei typischer Musik\, einer Bildershow und einem hervorragendem Drei-Gänge-Menü.\nAnmeldung: T 0251 28779667\nBeitrag: 25 € (Drei-Gänge-Menü)
URL:https://www.upla-ev.de/event/kulinarischer-abend-brasilien/?lang=pt-br
LOCATION:La Costanera\, Bergstraße 19-20\, Münster\, NRW\, 48143\, Deutschland
CATEGORIES:Kulinarisches,Lateinamerikawochen
ATTACH;FMTTYPE=image/jpeg:https://www.upla-ev.de/wp-content/uploads/2023/09/IMG_8267-2-e1760175858228.jpg
END:VEVENT
BEGIN:VEVENT
DTSTART;TZID=UTC:20251104T190000
DTEND;TZID=UTC:20251104T220000
DTSTAMP:20260422T185849
CREATED:20181116T194925Z
LAST-MODIFIED:20251006T111906Z
UID:2970-1762282800-1762293600@www.upla-ev.de
SUMMARY:Reisebericht: Guatemala – Zwischen Vulkanen\, Seen und Traditionen
DESCRIPTION:Wir laden euch ein\, euch von der Vortragenden Sonja Kappenberg auf eine Reise durch das Herz Guatemalas mitnehmen zu lassen\, in ein Land voller Farben\, Geschichten und lebendiger Traditionen. Sie beginnt in den kolonialen Gassen Antiguas\, wo prachtvolle Kirchen und alte Klosteranlagen von einer bewegten Vergangenheit erzählen und gleichzeitig ein pulsierendes Kulturleben spürbar wird. Weiter geht es zum magischen Lago Atitlán\, eingebettet zwischen imposanten Vulkanen\, wo kunsthandwerkliche Dörfer ihre farbenfrohen Märkte öffnen\, Fraueninitiativen Einblicke in ihre Projekte geben und uraltes Pflanzenwissen noch heute von Generation zu Generation weitergegeben wird. Den Höhepunkt bildet eine eindrucksvolle Vulkanwanderung am Fuego\, bei der sich Naturgewalten hautnah erleben lassen und der Blick über die Landschaft unvergessliche Eindrücke hinterlässt. \nKommt vorbei und lasst euch von Guatemala in all seiner Vielfalt inspirieren – mit seiner Schönheit\, seiner Kultur und seiner Herzlichkeit! \n  \n \nEindrücke aus Guatemala © Sonja Kappenberg \nAnmeldung: info@upla-ev.de\nBeitrag: Spendenbasis
URL:https://www.upla-ev.de/event/reisebericht-guatemala/?lang=pt-br
LOCATION:Upla e.V.\, Verspoel 7-8\, Münster\, NRW\, 48143\, Deutschland
CATEGORIES:Lateinamerikawochen,Vortrag
ATTACH;FMTTYPE=image/jpeg:https://www.upla-ev.de/wp-content/uploads/2018/11/IMG_6961-e1759749431894.jpeg
END:VEVENT
BEGIN:VEVENT
DTSTART;TZID=UTC:20251104T190000
DTEND;TZID=UTC:20251104T223000
DTSTAMP:20260422T185849
CREATED:20201006T204246Z
LAST-MODIFIED:20251006T112149Z
UID:2967-1762282800-1762295400@www.upla-ev.de
SUMMARY:Upla Portugiesisch-Stammtisch
DESCRIPTION:Der Portugiesisch-Stammtisch hat sich zu einem stetigen Treffen entwickelt\, für Muttersprachler und alle\, die ihre Portugiesischkenntnisse anwenden und üben möchten\, oder eine/n Tandempartner/in suchen. \nAm 4. November treffen wir uns in der Cafebar Los Amigos\, Wolbecker Straße 128. \nMehr Infos zu Terminen\, Uhrzeiten und Orte der Treffen sind auf Facebook unter folgendem Link zu finden: \nhttps://www.facebook.com/PortugiesischStammtisch/ \nohne Anmeldung\nEintritt: Spendenbasis
URL:https://www.upla-ev.de/event/portugiesisch-stammtisch-11-25/?lang=pt-br
LOCATION:Los Amigos\, Wolbecker Straße 128\, Münster\, NRW\, 48155\, Deutschland
CATEGORIES:Lateinamerikawochen,Portugiesisch-Stammtisch
ATTACH;FMTTYPE=image/jpeg:https://www.upla-ev.de/wp-content/uploads/2018/03/Stammtisch-Flyer_Basic-e1759749697684.jpg
END:VEVENT
BEGIN:VEVENT
DTSTART;TZID=UTC:20251107T173000
DTEND;TZID=UTC:20251107T210000
DTSTAMP:20260422T185849
CREATED:20181116T194925Z
LAST-MODIFIED:20251007T085301Z
UID:2987-1762536600-1762549200@www.upla-ev.de
SUMMARY:Performance: Mein Weg zum Samba
DESCRIPTION:Andréa de Moraes erzählt in Liedern und Geschichten von ihrem persönlichen Weg zum Samba. Zwischen Familienerinnerungen\, biografischen Erlebnissen und der Geschichte der ausgewählten Stücke entsteht eine intime musikalische Autoethnografie – Samba als Klang\, Erzählung und Lebensgefühl. \nKommt vorbei und lasst euch von dem brasilianischen Lebensgefühl der Samba verzaubern! \nohne Anmeldung\nBeitrag: Spendenbasis
URL:https://www.upla-ev.de/event/mein-weg-zum-samba/?lang=pt-br
LOCATION:Be 7\, Bennostraße 7 (Eingang Kanalseite)\, Münster
CATEGORIES:Konzert,Lateinamerikawochen
ATTACH;FMTTYPE=image/jpeg:https://www.upla-ev.de/wp-content/uploads/2018/11/andrea_samba-e1759749875828.jpg
END:VEVENT
BEGIN:VEVENT
DTSTART;TZID=UTC:20251108T160000
DTEND;TZID=UTC:20251108T170000
DTSTAMP:20260422T185849
CREATED:20230918T210303Z
LAST-MODIFIED:20251006T113302Z
UID:2993-1762617600-1762621200@www.upla-ev.de
SUMMARY:Workshop Zumba-Kids: A bailar mit Gianina
DESCRIPTION:Der Workshop ist perfekt für Kinder ab 4 Jahren\, die sich spielerisch zu rhytmischer Musik bewegen wollen.\nGianina bietet mit großem Erfolg Zumba-Workshops und -Partys für Kinder und Erwachsene in Münster an. Neben Sport\, Ausdauer\, Genuss\, Steigerung von Selbstwertgefühl und Lebensfreude steht bei ihr vor Allem der Spaß im Vordergrund! \n\n ab 4 Jahren \nAnmeldung: info@upla-ev.de\nEintritt: Spendenbasis \nDie Location ist nicht ganz so leicht zu finden\, auf der Kanalseite hinter dem Bennohaus seid ihr schon nah dran\, von dort ein paar Meter Richtung Hafen\, hinten rechts in der Ecke führt eine Treppe hoch in den ersten Stock. Genau da seid ihr richtig! \nHier findet ihr eine bebilderte Beschreibung:\nhttps://www.katjaychristian.de/kontakt-location-newsletter/ \nIn Kooperation mit
URL:https://www.upla-ev.de/event/workshop-zumba-kids-2025/?lang=pt-br
LOCATION:Be 7\, Bennostraße 7 (Eingang Kanalseite)\, Münster
CATEGORIES:Kinder,Lateinamerikawochen,Workshop
END:VEVENT
BEGIN:VEVENT
DTSTART;TZID=UTC:20251108T193000
DTEND;TZID=UTC:20251108T220000
DTSTAMP:20260422T185849
CREATED:20190929T165407Z
LAST-MODIFIED:20251006T113233Z
UID:2995-1762630200-1762639200@www.upla-ev.de
SUMMARY:Konzert: Molto hispanoamericano
DESCRIPTION:Mit Studierenden und Dozenten der Musikhochschule Münster.\nWir freuen uns sehr\, die Musikhochschule nun zum neunten Mal für die Lateinamerika-Wochen gewinnen zu können. Ihre Studierenden und Lehrenden würdigen mit ihrem Konzert das musikalische Erbe des Kontinents und laden alle Lateinamerika-Begeisterten in den Konzertsaal der Musikhochschule ein. Der Eintritt zum Konzert ist frei\, um Spenden wird gebeten. \nEintritt: Spendenbasis\nkeine Anmeldung notwendig \nKonzert: Südamerikanische klassische Musik in der Musikhochschule Münster\nIn Kooperation mit der Musikhochschule Münster. \n \n 
URL:https://www.upla-ev.de/event/molto-hispanoamericano-2025/?lang=pt-br
LOCATION:Musikhochschule Münster\, Ludgeriplatz 1\, Münster\, NRW\, 48143\, Deutschland
CATEGORIES:Konzert,Lateinamerikawochen
END:VEVENT
BEGIN:VEVENT
DTSTART;TZID=UTC:20251109T190000
DTEND;TZID=UTC:20251109T230000
DTSTAMP:20260422T185849
CREATED:20230918T220601Z
LAST-MODIFIED:20251006T114355Z
UID:3000-1762714800-1762729200@www.upla-ev.de
SUMMARY:Workshop Folklore Argentino und Fiesta Rock nacional
DESCRIPTION:Wir starten mit einem lebendigen Workshop\, in dem Sie traditionelle Tänze Argentiniens kennenlernen können – von mitreißenden Rhythmen der Zamba bis zu den schwungvollen Klängen der Chacarera. Christian Salvatore Vaccaro wird Ihnen einzelne Tänze und deren Herkunft näher bringen. \nAnschließend heißt es dann Bühne frei für die Fiesta Rock Nacional: feiern Sie zur Musik argentinischer Rocklegenden und erleben Sie\, wie kraftvoll und leidenschaftlich dieser Teil der Musikkultur das Lebensgefühl Argentiniens widerspiegelt. Ein Tag voller Bewegung\, Musik und Begegnung – ganz im Zeichen lateinamerikanischer Vielfalt. \nAnmeldung: info@upla-ev.de\nEintritt: Spendenbasis \nIn Kooperation mit \n \n  \nDie Location ist nicht ganz so leicht zu finden\, auf der Kanalseite hinter dem Bennohaus seid ihr schon nah dran\, von dort ein paar Meter Richtung Hafen\, hinten rechts in der Ecke führt eine Treppe hoch in den ersten Stock. Genau da seid ihr richtig! \nHier findet ihr eine bebilderte Beschreibung:\nhttps://www.katjaychristian.de/kontakt-location-newsletter/
URL:https://www.upla-ev.de/event/workshop-folklore-argentino/?lang=pt-br
LOCATION:Be 7\, Bennostraße 7 (Eingang Kanalseite)\, Münster
CATEGORIES:Lateinamerikawochen,Tanz,Workshop
END:VEVENT
BEGIN:VEVENT
DTSTART;TZID=UTC:20251115T180000
DTEND;TZID=UTC:20251116T013000
DTSTAMP:20260422T185849
CREATED:20190929T165316Z
LAST-MODIFIED:20251011T095635Z
UID:3009-1763229600-1763256600@www.upla-ev.de
SUMMARY:Abschlussfeier: La Fiesta
DESCRIPTION:Wir freuen uns\, die Abschlussfeier der Lateinamerika-Wochen in Münster in diesem Jahr in dem Kulturzentrum am Hafen\, der B-Side\, stattfinden zu lassen! \nFreut euch auf ein Fest voller Musik\, Tanz und kulinarischer Köstlichkeiten. Vier aufregende Wochen mit neuen Erkenntnissen über einen faszinierenden Kontinent\, kulinarischen Genüssen und kulturellen Highlights liegen hinter uns. Zum Abschluss laden wir ein\, bei Salsa\, Cumbia und Merengue das Tanzbein zu schwingen. Authentische lateinamerikanische Speisen und Getränke runden den Abend ab und bieten eine Reise durch die vielfältigen Geschmäcker des Kontinents. Die Fiesta wird zu einem unvergesslichen Finale\, das die kulturelle Vielfalt und Lebensfreude Lateinamerikas in den Mittelpunkt stellt. \nUnser Programm für euch:\n18 Uhr Workshop Salsa Cubana\n19 Uhr WorkshopBachata\n20 Uhr Workshop Rueda (für Mittelstufe)\n\nab 21 Uhr Fiesta Latinoamericana\nSalsa Cubana & Bachata all styles\, Merengue\, Cumbia\, Latin hits & eine prise Kizomba\nohne Anmeldung\nEintritt: 10 € \n \nDJ JuanPa und DJ Cas an den Decks \n  \nIn Kooperation mit \n \n  \n  \n 
URL:https://www.upla-ev.de/event/abschlussfeier_2025/?lang=pt-br
LOCATION:B-Side\, Am Mittelhafen 42\, Münster\, NRW\, 48155\, Deutschland
CATEGORIES:Feierlichkeiten,Lateinamerikawochen,Tanz
END:VEVENT
END:VCALENDAR