BEGIN:VCALENDAR
VERSION:2.0
PRODID:-//Asociación Latinoaméricana Alemana en Münster - ECPv6.15.17//NONSGML v1.0//EN
CALSCALE:GREGORIAN
METHOD:PUBLISH
X-WR-CALNAME:Asociación Latinoaméricana Alemana en Münster
X-ORIGINAL-URL:https://www.upla-ev.de/?lang=pt-br
X-WR-CALDESC:Eventos para Asociación Latinoaméricana Alemana en Münster
REFRESH-INTERVAL;VALUE=DURATION:PT1H
X-Robots-Tag:noindex
X-PUBLISHED-TTL:PT1H
BEGIN:VTIMEZONE
TZID:UTC
BEGIN:STANDARD
TZOFFSETFROM:+0000
TZOFFSETTO:+0000
TZNAME:UTC
DTSTART:20240101T000000
END:STANDARD
END:VTIMEZONE
BEGIN:VEVENT
DTSTART;VALUE=DATE:20251017
DTEND;VALUE=DATE:20251116
DTSTAMP:20260424T083039
CREATED:20190929T165316Z
LAST-MODIFIED:20251006T092734Z
UID:2817-1760659200-1763251199@www.upla-ev.de
SUMMARY:16. Lateinamerika-Wochen
DESCRIPTION:Vier aufregende Wochen mit neuen Erkenntnissen über einen faszinierenden Kontinent\, kulinarischen Genüssen und kulturellen Highlights liegen vor uns. Wir haben ein volles Programm für euch zusammengestellt\, mit Kino\, kulinarischen Abenden\, einem klassischen Konzert\, Reiseberichten und Vorträgen rund um Lateinamerika. Seid gespannt und schaut gern vorbei! \n¡Nos vemos! \n  \n 
URL:https://www.upla-ev.de/event/lateinamerika-wochen_2025/?lang=pt-br
LOCATION:Upla e.V.\, Verspoel 7-8\, Münster\, NRW\, 48143\, Deutschland
CATEGORIES:Feierlichkeiten,Lateinamerikawochen
END:VEVENT
BEGIN:VEVENT
DTSTART;TZID=UTC:20251017T190000
DTEND;TZID=UTC:20251017T220000
DTSTAMP:20260424T083039
CREATED:20190929T142759Z
LAST-MODIFIED:20251012T131518Z
UID:2907-1760727600-1760738400@www.upla-ev.de
SUMMARY:Eröffnung der 16. Lateinamerika-Wochen
DESCRIPTION:Die 16. Lateinamerika-Wochen in Münster laden in diesem Jahr ein\, die Vielfalt Lateinamerikas intensiv zu erleben. Das Programm bietet eine bunte Mischung aus Musik\, Tanz\, Kunst und Kulinarik\, die alle Sinne anspricht. \nDie Veranstaltung ist eine Einladung\, in die lebendige Kultur dieser Region einzutauchen und die Traditionen sowie aktuellen Entwicklungen Lateinamerikas hautnah zu entdecken. \nDie Eröffnung startet am 17. Oktober um 19 Uhr im Versanstaltungssaal der B-Side. Neben der Vorstellung unseres diesjährigen Programms erwarten euch vielfältige Veranstaltungspunkte: Nach einem Grußwort der Vorsitzenden des Integrationsrates\, Maria A. Salinas\, erwartet uns Live-Musik von Romer Avendaño. Anschließend wird Ignacio Helmke (Doktorand für Neuere und Neueste Geschichte an der Universität Münster) einen Kurzvortrag halten über “Fotografie und Kolonialismus: Die Darstellung der Mapuche im Kontext deutscher Migration nach Chile (1850–1950)”*. Eine Vorstellung des argentinischen Tangos von Tango Pasión (Katja Usunov und Christian Salvatore Vaccaro) ist ein weiteres Highlight der Eröffnungsveranstaltung. \nWir freuen uns auf spannenden Austausch mit allen Lateinamerika-Begeisterten\, und allen\, die einfach Lust haben\, die Vielfalt des Kontinentes kennenzulernen! \nDer Eintritt ist frei\, eine Anmeldung nicht notwendig. Wir freuen uns über Spenden und neue Mitglieder\, um diese Veranstaltungen und unseren Verein zu unterstützen. \n\nKatja und Christian von Tango Pasión mit argentinischem Tango. © Tango Pasión \n  \n* Weitere Infos zu dem Kurzvortrag von Ignacio Helmke\nFotografie und Kolonialismus: Die Darstellung der Mapuche im Kontext deutscher Migration nach Chile (1850–1950)\nDas Volk der Mapuche lebt aus einer historischen Sichtweise in Wallmapu\, einem Gebiet im südlichen Zentrum der heutigen Staaten Chile und Argentinien\, das sich vom Pazifik bis zum Atlantik erstreckt. Über Jahrzehnte leisteten die Mapuche Widerstand gegen den Kolonialismus des spanischen Imperiums. \nMit den lateinamerikanischen Unabhängigkeiten und der Herausbildung der Nationalstaaten wurden neue Grenzen gezogen und Territorien militärisch besetzt. Ab 1846 setzte eine Einwanderungswelle von Deutschen in den Süden Chiles ein\, die sich mit den historischen Gebieten der Mapuche überschnitt. Die deutsche Einwanderung führte zu einer Situation von Kontakt und Nachbarschaft mit den Mapuche\, die jedoch nicht frei von Konflikten und Spannungen war. In diesem Kontext entstanden umfangreiche Sammlungen von Objekten und Fotografien der Mapuche\, die von deutschen Einwanderern und ihren Nachkommen im Süden Chiles angelegt wurden. \nDer Vortrag schlägt eine Lesart dieser Materialien im Rahmen von Prozessen des Siedlungskolonialismus vor\, eingebettet in den Kontext eines republikanischen Kolonialismus in Chile.
URL:https://www.upla-ev.de/event/eroeffnung-der-16-lateinamerika-wochen/?lang=pt-br
LOCATION:B-Side\, Am Mittelhafen 42\, Münster\, NRW\, 48155\, Deutschland
CATEGORIES:Feierlichkeiten,Lateinamerikawochen,Tanz,Vortrag
END:VEVENT
BEGIN:VEVENT
DTSTART;TZID=UTC:20251020T180000
DTEND;TZID=UTC:20251020T210000
DTSTAMP:20260424T083039
CREATED:20190929T171044Z
LAST-MODIFIED:20251011T094904Z
UID:2915-1760983200-1760994000@www.upla-ev.de
SUMMARY:Kulinarischer Abend: Kolumbien
DESCRIPTION:Die kolumbianische Küche besticht durch ihre enorme Vielfalt – von frischen tropischen Früchten über herzhafte Eintöpfe bis hin zu köstlichen Spezialitäten wie Arepas und Empanadas. Jedes Gericht erzählt ein Stück Geschichte und spiegelt die Einflüsse verschiedener Regionen und Kulturen wider – von den Küsten am Karibischen Meer bis hin zu den Anden. Bei unserem Kulinarischen Abend könnt ihr diese bunte Geschmackswelt kennenlernen und genießen. Umrahmt wird das Erlebnis von lebendiger kolumbianischer Musik und einer Bildershow\, die euch auf eine visuelle Reise durch das Land mitnimmt. \nUnser Menü für euch:\nVorspeise: Arepa de carne mechada (Vegetarisch: Arepa mit Gemüse und Quinoa)\nHauptgericht: Sudado de pollo (Vegetarisch: Gegriltes Gemüse mit Patacones)\nNachtisch: Frittierte Bananen mit Milch-Mädchen\nTauchen Sie ein in diese wunderbare Welt bei typischer Musik\, einer Bildershow und einem hervorragendem 3-Gänge-Menü. \nAnmeldung: T 0251 28779667\nBeitrag: 25 € (Drei-Gänge-Menü)
URL:https://www.upla-ev.de/event/kulinarischer-abend-kolumbien-2025/?lang=pt-br
LOCATION:La Costanera\, Bergstraße 19-20\, Münster\, NRW\, 48143\, Deutschland
CATEGORIES:Kulinarisches,Lateinamerikawochen
ATTACH;FMTTYPE=image/jpeg:https://www.upla-ev.de/wp-content/uploads/2019/09/LUNES-LATINO-11-e1760175312784.jpg
END:VEVENT
BEGIN:VEVENT
DTSTART;TZID=UTC:20251021T190000
DTEND;TZID=UTC:20251021T200000
DTSTAMP:20260424T083039
CREATED:20211015T090445Z
LAST-MODIFIED:20251006T125129Z
UID:2922-1761073200-1761076800@www.upla-ev.de
SUMMARY:Volver a ti: Salud mental\, migración y el arte de reconstruirte lejos de casa
DESCRIPTION:UPLA los invita cordialmente a una charla y mesa de discusión en torno a este interesante tema de duelo migratorio. Luego de una introducción al tema efectuada por Manuel Vásquez (Experto en duelo Migratorio / Systemischer Berater\, Kunsttherapeut) abordaremos sus distintos aspectos e intercambiaremos experiencias y vivencias al respecto. La actividad será en español. \n¡¡Los esperamos!! \n  \nUPLA lädt Sie herzlich zu einem Vortrag und einer Diskussion zu dem Thema Migrationstrauer ein. Nach einer Einführung in das Thema von Manuel Vásquez (Experte für Immigrationstrauer / Systemischer Therapeut\, Kunsttherapeut) werden wir verschiedene Aspekte ansprechen und unsere Erfahrungen austauschen. Vortrag und Diskussion in spanischer Sprache.\n \nAnmeldung: info@upla-ev.de\nEintritt: Spendenbasis \n 
URL:https://www.upla-ev.de/event/vortrag-duelo-migratorio-2025/?lang=pt-br
LOCATION:Upla e.V.\, Verspoel 7-8\, Münster\, NRW\, 48143\, Deutschland
CATEGORIES:Lateinamerikawochen
ATTACH;FMTTYPE=image/jpeg:https://www.upla-ev.de/wp-content/uploads/2018/10/Duelo-migratorio_18.11.2018.jpg
END:VEVENT
BEGIN:VEVENT
DTSTART;TZID=UTC:20251024T190000
DTEND;TZID=UTC:20251024T223000
DTSTAMP:20260424T083039
CREATED:20190929T172315Z
LAST-MODIFIED:20251006T120410Z
UID:2925-1761332400-1761345000@www.upla-ev.de
SUMMARY:Latin-Jumping-Dinner
DESCRIPTION:Im südamerikanischen Ambiente kocht ihr ​zum Beispiel eine brasilianische ​Vorspeise\, eine peruanische Hauptspeise oder einen kolumbianischen Nachtisch. Wir treffen uns für die verschiedenen Gänge in unterschiedlichen Wohnungen – es wird von Wohnung zu Wohnung “gejumpt”! \nAm einfachsten ist es\, wenn ihr euch zu zweit anmeldet und zusammen einen Gang vorbereitet – und eure Wohnung für einen Gang und 4 weitere Gäste zur Verfügung stellt. Ziel ist es\, bei Musik und kulturellem Austausch gemeinsam in unterschiedlichen Wohnungen Gerichte aus verschiedenen Ländern Lateinamerikas zu genießen! \nBeitrag: 1-Gang im Menü (Vor-\, Haupt- oder Nachspeise nach Absprache) für 6 Personen\nAnmeldung: info@upla-ev.de
URL:https://www.upla-ev.de/event/jumping-dinner-2025/?lang=pt-br
LOCATION:Upla e.V.\, Verspoel 7-8\, Münster\, NRW\, 48143\, Deutschland
CATEGORIES:Kulinarisches,Lateinamerikawochen
ATTACH;FMTTYPE=image/jpeg:https://www.upla-ev.de/wp-content/uploads/2019/09/pexels-photo-3184183©Foto-de-fauxels-no-Pexels--e1759752231723.jpeg
END:VEVENT
BEGIN:VEVENT
DTSTART;TZID=UTC:20251025T170000
DTEND;TZID=UTC:20251025T193000
DTSTAMP:20260424T083039
CREATED:20230918T204120Z
LAST-MODIFIED:20251011T094813Z
UID:3013-1761411600-1761420600@www.upla-ev.de
SUMMARY:Weinprobe mit Tapas
DESCRIPTION:Genießt einen Abend voller Genuss und Atmosphäre bei unserer Weinprobe mit Tapas. Entdeckt ausgewählte Weine aus verschiedenen lateinamerikanischen Ländern – von kräftigen Rotweinen aus Argentinien und Chile bis hin zu frischen Weißweinen aus Peru oder Brasilien – und lasst euch von den passenden Tapas kulinarisch verwöhnen. \nUnsere Auswahl für euch: \n\nRotwein aus Argentinen mit Chorizo\nRotwein aus Chile mit Sopaiüilla mit Pebre\nWeisswein aus Brasilien mit Pão de Queijo\nRosé aus Peru mit Ceviche\n\nIn einem stimmungsvollen Ambiente verbinden sich edle Tropfen\, feine Häppchen und lebendige Eindrücke zu einer Reise durch die Geschmacksvielfalt Lateinamerikas. \nAnmeldung: T 0251 28779667\nBeitrag: 30 €
URL:https://www.upla-ev.de/event/weinprobe-mit-tapas/?lang=pt-br
LOCATION:La Costanera\, Bergstraße 19-20\, Münster\, NRW\, 48143\, Deutschland
CATEGORIES:Kulinarisches,Lateinamerikawochen
ATTACH;FMTTYPE=image/jpeg:https://www.upla-ev.de/wp-content/uploads/2023/09/wine-6174460_1280-e1759752838569.jpg
END:VEVENT
BEGIN:VEVENT
DTSTART;TZID=UTC:20251029T190000
DTEND;TZID=UTC:20251029T220000
DTSTAMP:20260424T083039
CREATED:20231015T194640Z
LAST-MODIFIED:20251012T124925Z
UID:2935-1761764400-1761775200@www.upla-ev.de
SUMMARY:Latino-Pub-Quiz
DESCRIPTION:Unser Lateinamerika-Quiz nimmt euch mit auf eine spannende Reise durch die Länder und Kulturen dieser vielfältigen Region. Testet euer Wissen über Geschichte\, Geografie\, Traditionen und berühmte Persönlichkeiten aus Lateinamerika. Entdeckt faszinierende Fakten über exotische Landschaften\, pulsierende Städte und kulinarische Köstlichkeiten. Stellt euch der Herausforderung und findet heraus\, wie gut ihr über diesen Teil der Welt Bescheid wißt! \nWir freuen uns auf einen tollen Quizabend! \nAnmeldung an info@upla-ev.de\nBeitrag: Spendenbasis \n 
URL:https://www.upla-ev.de/event/quiz-latinoamericano_2025/?lang=pt-br
LOCATION:Spec Ops\, Aegidiimarkt 5\, Münster\, Deutschland
CATEGORIES:Lateinamerikawochen
ATTACH;FMTTYPE=image/jpeg:https://www.upla-ev.de/wp-content/uploads/2023/10/1000053842-e1760273326467.jpg
END:VEVENT
BEGIN:VEVENT
DTSTART;TZID=UTC:20251030T190000
DTEND;TZID=UTC:20251030T210000
DTSTAMP:20260424T083039
CREATED:20190929T171247Z
LAST-MODIFIED:20251027T183551Z
UID:2937-1761850800-1761858000@www.upla-ev.de
SUMMARY:Club de Lectura
DESCRIPTION:In unserem Buchclub treffen wir uns regelmäßig\, um gemeinsam Werke großer Autorinnen und Autoren zu besprechen und über Themen zu diskutieren\, die weit über die Seiten hinausreichen. Im Rahmen der Lateinamerika-Wochen laden wir Sie besonders herzlich ein\, Teil dieser literarischen Reise zu werden und neue Perspektiven kennenzulernen.\n\nTaucht ein in die faszinierende Welt der lateinamerikanischen Literatur und entdeckt Stimmen voller Leidenschaft\, Poesie und gesellschaftlicher Tiefe. Die Veranstaltung findet weitestgehend auf spanisch statt.\nDiesmal sprechen wir anhand der Poesie über das Thema Exil.\n\nDie Texte\, auf denen diese Sitzung basiert\, sind:\n\nOtra vez el mar (Reinaldo Arenas)\nEl viaje (Cristina Peri Rossi)\n\nExilios (Ida Vitale)\n\n\nSerenata para la tierra de uno (María Elena Walsh)\n\n\nAlle zukünftigen Termine des Club de lectura nach den Lateinamerika-Wochen werden Sie auf unserer Website und in unseren Social-Media-Kanälen finden.\n\nAdéntrese en el fascinante mundo de la literatura latinoamericana y descubra voces llenas de pasión\, poesía y profundidad social. En nuestro club de lectura nos reunimos para comentar juntos las obras de grandes autoras y autores y debatir sobre temas que van mucho más allá de las páginas. En el marco de las Semanas de Latinoamérica le invitamos especialmente a ser parte de este viaje literario y a descubrir nuevas perspectivas. La actividad se desarrolla en gran medida en español. \nEintritt: Spendenbasis\nAnmeldung: info@upla-ev.de
URL:https://www.upla-ev.de/event/club-de-lectura/?lang=pt-br
LOCATION:La Costanera\, Bergstraße 19-20\, Münster\, NRW\, 48143\, Deutschland
CATEGORIES:Buchclub,Lateinamerikawochen
ATTACH;FMTTYPE=image/jpeg:https://www.upla-ev.de/wp-content/uploads/2019/09/1000053844-e1760273560423.jpg
END:VEVENT
END:VCALENDAR